BEGIN:VCALENDAR
VERSION:2.0
PRODID:-//Trinity Christian School - ECPv6.6.4.2//NONSGML v1.0//EN
CALSCALE:GREGORIAN
METHOD:PUBLISH
X-ORIGINAL-URL:https://www.tcsstatesboro.org
X-WR-CALDESC:Events for Trinity Christian School
REFRESH-INTERVAL;VALUE=DURATION:PT1H
X-Robots-Tag:noindex
X-PUBLISHED-TTL:PT1H
BEGIN:VTIMEZONE
TZID:America/New_York
BEGIN:DAYLIGHT
TZOFFSETFROM:-0500
TZOFFSETTO:-0400
TZNAME:EDT
DTSTART:20230312T070000
END:DAYLIGHT
BEGIN:STANDARD
TZOFFSETFROM:-0400
TZOFFSETTO:-0500
TZNAME:EST
DTSTART:20231105T060000
END:STANDARD
END:VTIMEZONE
BEGIN:VEVENT
DTSTART;TZID=America/New_York:20230422T120000
DTEND;TZID=America/New_York:20230422T140000
DTSTAMP:20260421T150834
CREATED:20230417T191202Z
LAST-MODIFIED:20230417T191202Z
UID:7096-1682164800-1682172000@www.tcsstatesboro.org
SUMMARY:AWAY BOYS Soccer v. Alleluia Community School
DESCRIPTION:
URL:https://www.tcsstatesboro.org/event/away-boys-soccer-v-alleluia-community-school/
LOCATION:Aquinas High School\, 1920 Highland Ave\, Augusta\, GA\, 30904\, United States
CATEGORIES:Soccer,Sports Events
ORGANIZER;CN="Trinity Christian School":MAILTO:office@tcsstatesboro.org
END:VEVENT
END:VCALENDAR