BEGIN:VCALENDAR
VERSION:2.0
PRODID:-//Trinity Christian School - ECPv6.6.4.2//NONSGML v1.0//EN
CALSCALE:GREGORIAN
METHOD:PUBLISH
X-WR-CALNAME:Trinity Christian School
X-ORIGINAL-URL:https://www.tcsstatesboro.org
X-WR-CALDESC:Events for Trinity Christian School
REFRESH-INTERVAL;VALUE=DURATION:PT1H
X-Robots-Tag:noindex
X-PUBLISHED-TTL:PT1H
BEGIN:VTIMEZONE
TZID:America/New_York
BEGIN:DAYLIGHT
TZOFFSETFROM:-0500
TZOFFSETTO:-0400
TZNAME:EDT
DTSTART:20230312T070000
END:DAYLIGHT
BEGIN:STANDARD
TZOFFSETFROM:-0400
TZOFFSETTO:-0500
TZNAME:EST
DTSTART:20231105T060000
END:STANDARD
END:VTIMEZONE
BEGIN:VEVENT
DTSTART;VALUE=DATE:20230710
DTEND;VALUE=DATE:20230714
DTSTAMP:20260421T081713
CREATED:20230417T191853Z
LAST-MODIFIED:20230417T191853Z
UID:7114-1688947200-1689292799@www.tcsstatesboro.org
SUMMARY:Bob Massee Volleyball Camp
DESCRIPTION:Details coming soon
URL:https://www.tcsstatesboro.org/event/bob-massee-volleyball-camp/
LOCATION:Statesboro High School\, 10 Coach Lee Hill Blvd\, Statesboro\, GA\, 30458\, United States
CATEGORIES:Sports Camps,Sports Events,Volleyball
END:VEVENT
BEGIN:VEVENT
DTSTART;TZID=America/New_York:20230710T090000
DTEND;TZID=America/New_York:20230714T110000
DTSTAMP:20260421T081713
CREATED:20230711T092549Z
LAST-MODIFIED:20230714T002522Z
UID:8177-1688979600-1689332400@www.tcsstatesboro.org
SUMMARY:TCS Lion s Running Camp
DESCRIPTION:
URL:https://www.tcsstatesboro.org/event/tcs-lion-s-running-camp/
END:VEVENT
BEGIN:VEVENT
DTSTART;TZID=America/New_York:20230710T090000
DTEND;TZID=America/New_York:20230710T110000
DTSTAMP:20260421T081713
CREATED:20230630T131324Z
LAST-MODIFIED:20230630T131720Z
UID:8050-1688979600-1688986800@www.tcsstatesboro.org
SUMMARY:TCS Lions Running Camp
DESCRIPTION:Calling all TCS runners (and those interested)!\n\n\n \n\n\nJoin us for our TCS Lions Running Camp July 10-14 from 9am-11am!\n\n\n \n\n\nThis is for runners entering 3rd grade and older.\n\n\nWe will play running games\, learn about the sport of cross country\, and enjoy a lesson each day.\n\nCost: $50\n\n \n\n\n\nIf your runner or potential runner is interested\, please fill out the interest form here:  \nhttps://forms.gle/xk9v4JZ1mjBJeoW87 and then register at https://givebutter.com/TCSRunCamp.
URL:https://www.tcsstatesboro.org/event/tcs-lions-running-camp/
LOCATION:Trinity Christian School\, 571 E Main St\, Statesboro\, GA 30461\, USA
CATEGORIES:Cross Country,Sports Camps
ATTACH;FMTTYPE=image/png:https://www.tcsstatesboro.org/wp-content/uploads/2023/06/TCS-Lions-Running-Camp-Fall23.png
ORGANIZER;CN="Trinity Christian School":MAILTO:office@tcsstatesboro.org
END:VEVENT
END:VCALENDAR