BEGIN:VCALENDAR
VERSION:2.0
PRODID:-//Trinity Christian School - ECPv6.6.4.2//NONSGML v1.0//EN
CALSCALE:GREGORIAN
METHOD:PUBLISH
X-WR-CALNAME:Trinity Christian School
X-ORIGINAL-URL:https://www.tcsstatesboro.org
X-WR-CALDESC:Events for Trinity Christian School
REFRESH-INTERVAL;VALUE=DURATION:PT1H
X-Robots-Tag:noindex
X-PUBLISHED-TTL:PT1H
BEGIN:VTIMEZONE
TZID:America/New_York
BEGIN:DAYLIGHT
TZOFFSETFROM:-0500
TZOFFSETTO:-0400
TZNAME:EDT
DTSTART:20230312T070000
END:DAYLIGHT
BEGIN:STANDARD
TZOFFSETFROM:-0400
TZOFFSETTO:-0500
TZNAME:EST
DTSTART:20231105T060000
END:STANDARD
END:VTIMEZONE
BEGIN:VEVENT
DTSTART;VALUE=DATE:20230724
DTEND;VALUE=DATE:20230727
DTSTAMP:20260421T081629
CREATED:20230417T192156Z
LAST-MODIFIED:20230417T202932Z
UID:7120-1690156800-1690415999@www.tcsstatesboro.org
SUMMARY:Southeast Georgia Volleyball Camp - High School
DESCRIPTION:Monday-Wednesday from 8:30am-12:30pm\n$75 per camper \n*High School (grades 9-12) only
URL:https://www.tcsstatesboro.org/event/southeast-georgia-volleyball-camp-high-school/
LOCATION:Faith Baptist Christian Academy\, 12 McDonald St.\, Ludowici\, GA\, 31316\, United States
CATEGORIES:Sports Camps,Sports Events,Volleyball
END:VEVENT
BEGIN:VEVENT
DTSTART;VALUE=DATE:20230725
DTEND;VALUE=DATE:20230726
DTSTAMP:20260421T081629
CREATED:20230716T003241Z
LAST-MODIFIED:20230719T005702Z
UID:8197-1690243200-1690329599@www.tcsstatesboro.org
SUMMARY:PTF Meeting - TPC Sanctuary
DESCRIPTION:
URL:https://www.tcsstatesboro.org/event/ptf-meeting-tpc-sanctuary/
END:VEVENT
BEGIN:VEVENT
DTSTART;TZID=America/New_York:20230725T170000
DTEND;TZID=America/New_York:20230725T183000
DTSTAMP:20260421T081629
CREATED:20230505T135821Z
LAST-MODIFIED:20230719T004113Z
UID:7374-1690304400-1690309800@www.tcsstatesboro.org
SUMMARY:Volleyball Try-Outs
DESCRIPTION:Girls Middle & High School (6th-12th Grade)
URL:https://www.tcsstatesboro.org/event/volleyball-volunteer-work-out-5/
LOCATION:Trinity Christian School\, 571 E Main St\, Statesboro\, GA 30461\, USA
CATEGORIES:Sports Events,Volleyball
END:VEVENT
END:VCALENDAR