BEGIN:VCALENDAR
VERSION:2.0
PRODID:-//Trinity Christian School - ECPv6.6.4.2//NONSGML v1.0//EN
CALSCALE:GREGORIAN
METHOD:PUBLISH
X-ORIGINAL-URL:https://www.tcsstatesboro.org
X-WR-CALDESC:Events for Trinity Christian School
REFRESH-INTERVAL;VALUE=DURATION:PT1H
X-Robots-Tag:noindex
X-PUBLISHED-TTL:PT1H
BEGIN:VTIMEZONE
TZID:America/New_York
BEGIN:DAYLIGHT
TZOFFSETFROM:-0500
TZOFFSETTO:-0400
TZNAME:EDT
DTSTART:20230312T070000
END:DAYLIGHT
BEGIN:STANDARD
TZOFFSETFROM:-0400
TZOFFSETTO:-0500
TZNAME:EST
DTSTART:20231105T060000
END:STANDARD
END:VTIMEZONE
BEGIN:VEVENT
DTSTART;TZID=America/New_York:20231114T160000
DTEND;TZID=America/New_York:20231114T210000
DTSTAMP:20260420T062615
CREATED:20230505T135832Z
LAST-MODIFIED:20231114T135613Z
UID:7409-1699977600-1699995600@www.tcsstatesboro.org
SUMMARY:AWAY Basketball @ Appling Christian Academy
DESCRIPTION:MSG 4p\nMSB 5p\nVG 6p\nVB 730p
URL:https://www.tcsstatesboro.org/event/away-basketball-appling-christian-academy/
LOCATION:Appling Christian Academy\, 1901 Hatch Pkwy S\, Baxley\, GA\, United States
CATEGORIES:Basketball,Sports Events
END:VEVENT
BEGIN:VEVENT
DTSTART;TZID=America/New_York:20231116T170000
DTEND;TZID=America/New_York:20231116T210000
DTSTAMP:20260420T062615
CREATED:20230505T135833Z
LAST-MODIFIED:20231116T135759Z
UID:7410-1700154000-1700168400@www.tcsstatesboro.org
SUMMARY:HOME Basketball vs Faith Christian Academy- Waynesboro
DESCRIPTION:VG 5p\nVB 630p
URL:https://www.tcsstatesboro.org/event/home-basketball-vs-faith-christian-academy-waynesboro/
LOCATION:Trinity Christian School\, 571 E Main St\, Statesboro\, GA\, United States
CATEGORIES:Basketball,Sports Events
END:VEVENT
BEGIN:VEVENT
DTSTART;TZID=America/New_York:20231120T170000
DTEND;TZID=America/New_York:20231120T200000
DTSTAMP:20260420T062615
CREATED:20230505T135833Z
LAST-MODIFIED:20231119T141431Z
UID:7411-1700499600-1700510400@www.tcsstatesboro.org
SUMMARY:HOME Basketball vs Patrick Henry Academy (Thanksgiving Tip-Off)
DESCRIPTION:VG 5p\nVB 6p
URL:https://www.tcsstatesboro.org/event/home-basketball-vs-patrick-henry-academy-thanksgiving-tip-off/
LOCATION:Trinity Christian School\, 571 E Main St\, Statesboro\, GA\, United States
CATEGORIES:Basketball,Sports Events
END:VEVENT
BEGIN:VEVENT
DTSTART;TZID=America/New_York:20231128T160000
DTEND;TZID=America/New_York:20231128T210000
DTSTAMP:20260420T062615
CREATED:20230505T135833Z
LAST-MODIFIED:20231125T145532Z
UID:7412-1701187200-1701205200@www.tcsstatesboro.org
SUMMARY:HOME Basketball vs Appling Christian Academy
DESCRIPTION:MSB 5p\nVG 6p\nVB 730p
URL:https://www.tcsstatesboro.org/event/home-basketball-vs-appling-christian-academy/
LOCATION:Trinity Christian School\, 571 E Main St\, Statesboro\, GA\, United States
CATEGORIES:Basketball,Sports Events
END:VEVENT
END:VCALENDAR