BEGIN:VCALENDAR
VERSION:2.0
PRODID:-//Trinity Christian School - ECPv6.6.4.2//NONSGML v1.0//EN
CALSCALE:GREGORIAN
METHOD:PUBLISH
X-ORIGINAL-URL:https://www.tcsstatesboro.org
X-WR-CALDESC:Events for Trinity Christian School
REFRESH-INTERVAL;VALUE=DURATION:PT1H
X-Robots-Tag:noindex
X-PUBLISHED-TTL:PT1H
BEGIN:VTIMEZONE
TZID:America/New_York
BEGIN:DAYLIGHT
TZOFFSETFROM:-0500
TZOFFSETTO:-0400
TZNAME:EDT
DTSTART:20230312T070000
END:DAYLIGHT
BEGIN:STANDARD
TZOFFSETFROM:-0400
TZOFFSETTO:-0500
TZNAME:EST
DTSTART:20231105T060000
END:STANDARD
END:VTIMEZONE
BEGIN:VEVENT
DTSTART;TZID=America/New_York:20231201T170000
DTEND;TZID=America/New_York:20231201T200000
DTSTAMP:20260420T044718
CREATED:20230505T135834Z
LAST-MODIFIED:20231125T145532Z
UID:7413-1701450000-1701460800@www.tcsstatesboro.org
SUMMARY:AWAY Basketball @ The Habersham School
DESCRIPTION:VG 5p\nVB 630p
URL:https://www.tcsstatesboro.org/event/away-basketball-the-habersham-school/
LOCATION:4700 Skidaway Rd building b\, Savannah\, GA\, United States
CATEGORIES:Basketball,Sports Events
END:VEVENT
BEGIN:VEVENT
DTSTART;TZID=America/New_York:20231205T160000
DTEND;TZID=America/New_York:20231205T210000
DTSTAMP:20260420T044718
CREATED:20230505T135834Z
LAST-MODIFIED:20231125T145532Z
UID:7414-1701792000-1701810000@www.tcsstatesboro.org
SUMMARY:HOME Basketball vs Alleluia Community School
DESCRIPTION:MSG 4p\nMSB 5p\nVG 6p\nVB 730p
URL:https://www.tcsstatesboro.org/event/home-basketball-vs-alleluia-community-school/
LOCATION:Trinity Christian School\, 571 E Main St\, Statesboro\, GA\, United States
CATEGORIES:Basketball,Sports Events
END:VEVENT
BEGIN:VEVENT
DTSTART;TZID=America/New_York:20231207T160000
DTEND;TZID=America/New_York:20231207T210000
DTSTAMP:20260420T044718
CREATED:20230505T135835Z
LAST-MODIFIED:20231108T135614Z
UID:7416-1701964800-1701982800@www.tcsstatesboro.org
SUMMARY:AWAY Basketball @ David Emanuel Academy
DESCRIPTION:MSG 4p\nMSB 5p\nVG 6p\nVB 730p
URL:https://www.tcsstatesboro.org/event/away-basketball-david-emanuel-academy/
LOCATION:David Emanuel Academy\, 2800 State Rte 4\, Twin City\, GA\, United States
CATEGORIES:Basketball,Sports Events
END:VEVENT
BEGIN:VEVENT
DTSTART;TZID=America/New_York:20231212T160000
DTEND;TZID=America/New_York:20231212T210000
DTSTAMP:20260420T044718
CREATED:20230505T135835Z
LAST-MODIFIED:20231212T122534Z
UID:7417-1702396800-1702414800@www.tcsstatesboro.org
SUMMARY:AWAY Basketball @ Coastal Hurricanes
DESCRIPTION:MSG 4p\nMSB 5p\nVG 6p\nVB 730p
URL:https://www.tcsstatesboro.org/event/away-basketball-coastal-hurricanes/
CATEGORIES:Basketball,Sports Events
END:VEVENT
BEGIN:VEVENT
DTSTART;TZID=America/New_York:20231215T170000
DTEND;TZID=America/New_York:20231215T210000
DTSTAMP:20260420T044718
CREATED:20230505T135836Z
LAST-MODIFIED:20231215T122535Z
UID:7419-1702659600-1702674000@www.tcsstatesboro.org
SUMMARY:AWAY Basketball @ Faith Christian Academy- Waynesboro
DESCRIPTION:VG 5p\nVB 630p
URL:https://www.tcsstatesboro.org/event/away-basketball-faith-christian-academy-waynesboro/
LOCATION:Faith Christian Academy\, Waynesboro\, GA\, United States
CATEGORIES:Basketball,Sports Events
END:VEVENT
END:VCALENDAR