BEGIN:VCALENDAR
VERSION:2.0
PRODID:-//Trinity Christian School - ECPv6.6.4.2//NONSGML v1.0//EN
CALSCALE:GREGORIAN
METHOD:PUBLISH
X-WR-CALNAME:Trinity Christian School
X-ORIGINAL-URL:https://www.tcsstatesboro.org
X-WR-CALDESC:Events for Trinity Christian School
REFRESH-INTERVAL;VALUE=DURATION:PT1H
X-Robots-Tag:noindex
X-PUBLISHED-TTL:PT1H
BEGIN:VTIMEZONE
TZID:America/New_York
BEGIN:DAYLIGHT
TZOFFSETFROM:-0500
TZOFFSETTO:-0400
TZNAME:EDT
DTSTART:20240310T070000
END:DAYLIGHT
BEGIN:STANDARD
TZOFFSETFROM:-0400
TZOFFSETTO:-0500
TZNAME:EST
DTSTART:20241103T060000
END:STANDARD
END:VTIMEZONE
BEGIN:VEVENT
DTSTART;TZID=America/New_York:20240109T160000
DTEND;TZID=America/New_York:20240109T210000
DTSTAMP:20260420T025845
CREATED:20230505T135836Z
LAST-MODIFIED:20240109T131013Z
UID:7420-1704816000-1704834000@www.tcsstatesboro.org
SUMMARY:AWAY Basketball @ Alleluia Community School
DESCRIPTION:
URL:https://www.tcsstatesboro.org/event/away-basketball-alleluia-community-school/
LOCATION:Alleluia Community School\, 2819 Peach Orchard Rd\, Augusta\, GA\, United States
CATEGORIES:Basketball,Sports Events
END:VEVENT
BEGIN:VEVENT
DTSTART;TZID=America/New_York:20240112T160000
DTEND;TZID=America/New_York:20240112T200000
DTSTAMP:20260420T025845
CREATED:20230505T135837Z
LAST-MODIFIED:20240112T131017Z
UID:7423-1705075200-1705089600@www.tcsstatesboro.org
SUMMARY:HOME Basketball vs Heritage Christian Academy
DESCRIPTION:
URL:https://www.tcsstatesboro.org/event/home-basketball-vs-heritage-christian-academy/
LOCATION:Trinity Christian School\, 571 E Main St\, Statesboro\, GA 30461\, USA
CATEGORIES:Basketball,Sports Events
ORGANIZER;CN="Trinity Christian School":MAILTO:office@tcsstatesboro.org
END:VEVENT
BEGIN:VEVENT
DTSTART;TZID=America/New_York:20240116T160000
DTEND;TZID=America/New_York:20240116T210000
DTSTAMP:20260420T025845
CREATED:20230505T135845Z
LAST-MODIFIED:20240116T132636Z
UID:7424-1705420800-1705438800@www.tcsstatesboro.org
SUMMARY:HOME Basketball vs Coastal Hurricanes
DESCRIPTION:
URL:https://www.tcsstatesboro.org/event/home-basketball-vs-coastal-hurricanes/
LOCATION:Trinity Christian School\, 571 E Main St\, Statesboro\, GA\, United States
CATEGORIES:Basketball,Sports Events
END:VEVENT
BEGIN:VEVENT
DTSTART;TZID=America/New_York:20240119T170000
DTEND;TZID=America/New_York:20240119T200000
DTSTAMP:20260420T025845
CREATED:20230505T135845Z
LAST-MODIFIED:20240119T132516Z
UID:7425-1705683600-1705694400@www.tcsstatesboro.org
SUMMARY:HOME Basketball vs The Habersham School
DESCRIPTION:VG 5pm\nVB 630pm
URL:https://www.tcsstatesboro.org/event/home-basketball-vs-the-habersham-school/
LOCATION:Trinity Christian School\, 571 E Main St\, Statesboro\, GA\, United States
CATEGORIES:Basketball,Sports Events
END:VEVENT
BEGIN:VEVENT
DTSTART;TZID=America/New_York:20240123T160000
DTEND;TZID=America/New_York:20240123T200000
DTSTAMP:20260420T025845
CREATED:20230505T135845Z
LAST-MODIFIED:20240119T132516Z
UID:7426-1706025600-1706040000@www.tcsstatesboro.org
SUMMARY:AWAY Basketball @ Heritage Christian Academy
DESCRIPTION:
URL:https://www.tcsstatesboro.org/event/away-basketball-heritage-christian-academy/
LOCATION:Heritage Christian Academy\, 4265 Norwich St Exd\, Brunswick\, GA\, United States
CATEGORIES:Basketball,Sports Events
END:VEVENT
BEGIN:VEVENT
DTSTART;TZID=America/New_York:20240129T160000
DTEND;TZID=America/New_York:20240129T210000
DTSTAMP:20260420T025845
CREATED:20230505T135846Z
LAST-MODIFIED:20240119T132516Z
UID:7427-1706544000-1706562000@www.tcsstatesboro.org
SUMMARY:HOME Basketball vs David Emanuel Academy
DESCRIPTION:
URL:https://www.tcsstatesboro.org/event/home-basketball-vs-david-emanuel-academy/
LOCATION:Trinity Christian School\, 571 E Main St\, Statesboro\, GA\, United States
CATEGORIES:Basketball,Sports Events
ORGANIZER;CN="Trinity Christian School":MAILTO:office@tcsstatesboro.org
END:VEVENT
END:VCALENDAR