BEGIN:VCALENDAR
VERSION:2.0
PRODID:-//Trinity Christian School - ECPv6.6.4.2//NONSGML v1.0//EN
CALSCALE:GREGORIAN
METHOD:PUBLISH
X-WR-CALNAME:Trinity Christian School
X-ORIGINAL-URL:https://www.tcsstatesboro.org
X-WR-CALDESC:Events for Trinity Christian School
REFRESH-INTERVAL;VALUE=DURATION:PT1H
X-Robots-Tag:noindex
X-PUBLISHED-TTL:PT1H
BEGIN:VTIMEZONE
TZID:America/New_York
BEGIN:DAYLIGHT
TZOFFSETFROM:-0500
TZOFFSETTO:-0400
TZNAME:EDT
DTSTART:20230312T070000
END:DAYLIGHT
BEGIN:STANDARD
TZOFFSETFROM:-0400
TZOFFSETTO:-0500
TZNAME:EST
DTSTART:20231105T060000
END:STANDARD
END:VTIMEZONE
BEGIN:VEVENT
DTSTART;TZID=America/New_York:20230710T090000
DTEND;TZID=America/New_York:20230710T110000
DTSTAMP:20260420T214605
CREATED:20230630T131324Z
LAST-MODIFIED:20230630T131720Z
UID:8050-1688979600-1688986800@www.tcsstatesboro.org
SUMMARY:TCS Lions Running Camp
DESCRIPTION:Calling all TCS runners (and those interested)!\n\n\n \n\n\nJoin us for our TCS Lions Running Camp July 10-14 from 9am-11am!\n\n\n \n\n\nThis is for runners entering 3rd grade and older.\n\n\nWe will play running games\, learn about the sport of cross country\, and enjoy a lesson each day.\n\nCost: $50\n\n \n\n\n\nIf your runner or potential runner is interested\, please fill out the interest form here:  \nhttps://forms.gle/xk9v4JZ1mjBJeoW87 and then register at https://givebutter.com/TCSRunCamp.
URL:https://www.tcsstatesboro.org/event/tcs-lions-running-camp/
LOCATION:Trinity Christian School\, 571 E Main St\, Statesboro\, GA 30461\, USA
CATEGORIES:Cross Country,Sports Camps
ATTACH;FMTTYPE=image/png:https://www.tcsstatesboro.org/wp-content/uploads/2023/06/TCS-Lions-Running-Camp-Fall23.png
ORGANIZER;CN="Trinity Christian School":MAILTO:office@tcsstatesboro.org
END:VEVENT
BEGIN:VEVENT
DTSTART;VALUE=DATE:20230710
DTEND;VALUE=DATE:20230714
DTSTAMP:20260420T214605
CREATED:20230417T191853Z
LAST-MODIFIED:20230417T191853Z
UID:7114-1688947200-1689292799@www.tcsstatesboro.org
SUMMARY:Bob Massee Volleyball Camp
DESCRIPTION:Details coming soon
URL:https://www.tcsstatesboro.org/event/bob-massee-volleyball-camp/
LOCATION:Statesboro High School\, 10 Coach Lee Hill Blvd\, Statesboro\, GA\, 30458\, United States
CATEGORIES:Sports Camps,Sports Events,Volleyball
END:VEVENT
BEGIN:VEVENT
DTSTART;TZID=America/New_York:20230619T140000
DTEND;TZID=America/New_York:20230623T170000
DTSTAMP:20260420T214605
CREATED:20230613T145716Z
LAST-MODIFIED:20230613T145750Z
UID:7915-1687183200-1687539600@www.tcsstatesboro.org
SUMMARY:TCS Boys Basketball Camp
DESCRIPTION:TIME\n2pm-5pm \nCOST \n$75 per person \nSign up online at https://givebutter.com/TCSBoysBBallCamp
URL:https://www.tcsstatesboro.org/event/tcs-boys-basketball-camp/
LOCATION:Trinity Christian School\, 571 E Main St\, Statesboro\, GA 30461\, USA
CATEGORIES:Basketball,Sports Camps,Sports Events
ATTACH;FMTTYPE=image/jpeg:https://www.tcsstatesboro.org/wp-content/uploads/2023/05/TCS-Boys-Basketball-Camp-Flyer-scaled.jpg
END:VEVENT
BEGIN:VEVENT
DTSTART;TZID=America/New_York:20230619T140000
DTEND;TZID=America/New_York:20230623T170000
DTSTAMP:20260420T214605
CREATED:20230613T145716Z
LAST-MODIFIED:20230613T145750Z
UID:7915-1687183200-1687539600@www.tcsstatesboro.org
SUMMARY:TCS Boys Basketball Camp
DESCRIPTION:TIME\n2pm-5pm \nCOST \n$75 per person \nSign up online at https://givebutter.com/TCSBoysBBallCamp
URL:https://www.tcsstatesboro.org/event/tcs-boys-basketball-camp/
LOCATION:Trinity Christian School\, 571 E Main St\, Statesboro\, GA 30461\, USA
CATEGORIES:Basketball,Sports Camps,Sports Events
ATTACH;FMTTYPE=image/jpeg:https://www.tcsstatesboro.org/wp-content/uploads/2023/05/TCS-Boys-Basketball-Camp-Flyer-scaled.jpg
END:VEVENT
BEGIN:VEVENT
DTSTART;TZID=America/New_York:20230619T140000
DTEND;TZID=America/New_York:20230623T170000
DTSTAMP:20260420T214605
CREATED:20230613T145716Z
LAST-MODIFIED:20230613T145750Z
UID:7915-1687183200-1687539600@www.tcsstatesboro.org
SUMMARY:TCS Boys Basketball Camp
DESCRIPTION:TIME\n2pm-5pm \nCOST \n$75 per person \nSign up online at https://givebutter.com/TCSBoysBBallCamp
URL:https://www.tcsstatesboro.org/event/tcs-boys-basketball-camp/
LOCATION:Trinity Christian School\, 571 E Main St\, Statesboro\, GA 30461\, USA
CATEGORIES:Basketball,Sports Camps,Sports Events
ATTACH;FMTTYPE=image/jpeg:https://www.tcsstatesboro.org/wp-content/uploads/2023/05/TCS-Boys-Basketball-Camp-Flyer-scaled.jpg
END:VEVENT
BEGIN:VEVENT
DTSTART;TZID=America/New_York:20230619T140000
DTEND;TZID=America/New_York:20230623T170000
DTSTAMP:20260420T214605
CREATED:20230613T145716Z
LAST-MODIFIED:20230613T145750Z
UID:7915-1687183200-1687539600@www.tcsstatesboro.org
SUMMARY:TCS Boys Basketball Camp
DESCRIPTION:TIME\n2pm-5pm \nCOST \n$75 per person \nSign up online at https://givebutter.com/TCSBoysBBallCamp
URL:https://www.tcsstatesboro.org/event/tcs-boys-basketball-camp/
LOCATION:Trinity Christian School\, 571 E Main St\, Statesboro\, GA 30461\, USA
CATEGORIES:Basketball,Sports Camps,Sports Events
ATTACH;FMTTYPE=image/jpeg:https://www.tcsstatesboro.org/wp-content/uploads/2023/05/TCS-Boys-Basketball-Camp-Flyer-scaled.jpg
END:VEVENT
BEGIN:VEVENT
DTSTART;TZID=America/New_York:20230619T140000
DTEND;TZID=America/New_York:20230623T170000
DTSTAMP:20260420T214605
CREATED:20230613T145716Z
LAST-MODIFIED:20230613T145750Z
UID:7915-1687183200-1687539600@www.tcsstatesboro.org
SUMMARY:TCS Boys Basketball Camp
DESCRIPTION:TIME\n2pm-5pm \nCOST \n$75 per person \nSign up online at https://givebutter.com/TCSBoysBBallCamp
URL:https://www.tcsstatesboro.org/event/tcs-boys-basketball-camp/
LOCATION:Trinity Christian School\, 571 E Main St\, Statesboro\, GA 30461\, USA
CATEGORIES:Basketball,Sports Camps,Sports Events
ATTACH;FMTTYPE=image/jpeg:https://www.tcsstatesboro.org/wp-content/uploads/2023/05/TCS-Boys-Basketball-Camp-Flyer-scaled.jpg
END:VEVENT
BEGIN:VEVENT
DTSTART;VALUE=DATE:20230619
DTEND;VALUE=DATE:20230624
DTSTAMP:20260420T214605
CREATED:20230505T135819Z
LAST-MODIFIED:20230623T034258Z
UID:7364-1687132800-1687564799@www.tcsstatesboro.org
SUMMARY:TCS Girls Basketball Camp
DESCRIPTION:TIME9am- 11:30am \nAGE GROUPTBD
URL:https://www.tcsstatesboro.org/event/tcs-girls-basketball-camp-2/
LOCATION:Trinity Christian School\, 571 E Main St\, Statesboro\, GA 30461\, USA
CATEGORIES:Basketball,Sports Camps,Sports Events
ATTACH;FMTTYPE=image/jpeg:https://www.tcsstatesboro.org/wp-content/uploads/2023/05/TCS-Girls-Basketball-Camp-Flyer-scaled.jpg
END:VEVENT
BEGIN:VEVENT
DTSTART;VALUE=DATE:20230619
DTEND;VALUE=DATE:20230620
DTSTAMP:20260420T214605
CREATED:20230505T140031Z
LAST-MODIFIED:20230619T012909Z
UID:7453-1687132800-1687219199@www.tcsstatesboro.org
SUMMARY:PTF Meeting 6:30
DESCRIPTION:
URL:https://www.tcsstatesboro.org/event/ptf-meeting-630-2/
LOCATION:GA
CATEGORIES:Parent Teacher Fellowship Meetings
END:VEVENT
BEGIN:VEVENT
DTSTART;VALUE=DATE:20230605
DTEND;VALUE=DATE:20230610
DTSTAMP:20260420T214605
CREATED:20230505T135819Z
LAST-MODIFIED:20230525T234712Z
UID:7363-1685923200-1686355199@www.tcsstatesboro.org
SUMMARY:TCS Girls Basketball Camp
DESCRIPTION:TIME9am- 11:30am \nAGE GROUPTBD
URL:https://www.tcsstatesboro.org/event/tcs-girls-basketball-camp/
LOCATION:Trinity Christian School\, 571 E Main St\, Statesboro\, GA 30461\, USA
CATEGORIES:Basketball,Sports Camps,Sports Events
END:VEVENT
BEGIN:VEVENT
DTSTART;TZID=America/New_York:20230526T190000
DTEND;TZID=America/New_York:20230526T210000
DTSTAMP:20260420T214605
CREATED:20230417T190313Z
LAST-MODIFIED:20230417T190314Z
UID:7069-1685127600-1685134800@www.tcsstatesboro.org
SUMMARY:High School Graduation
DESCRIPTION:
URL:https://www.tcsstatesboro.org/event/high-school-graduation-2/
LOCATION:Trinity Christian School\, 571 E Main St\, Statesboro\, GA\, United States
CATEGORIES:School Events
ORGANIZER;CN="Trinity Christian School":MAILTO:office@tcsstatesboro.org
END:VEVENT
BEGIN:VEVENT
DTSTART;TZID=America/New_York:20230526T083000
DTEND;TZID=America/New_York:20230526T090000
DTSTAMP:20260420T214605
CREATED:20230505T140030Z
LAST-MODIFIED:20230525T235540Z
UID:7450-1685089800-1685091600@www.tcsstatesboro.org
SUMMARY:8th Grade Graduation
DESCRIPTION:
URL:https://www.tcsstatesboro.org/event/8th-grade-graduation/
LOCATION:GA
CATEGORIES:School Events
END:VEVENT
BEGIN:VEVENT
DTSTART;TZID=America/New_York:20230526T083000
DTEND;TZID=America/New_York:20230526T090000
DTSTAMP:20260420T214605
CREATED:20230505T140030Z
LAST-MODIFIED:20230525T235540Z
UID:7451-1685089800-1685091600@www.tcsstatesboro.org
SUMMARY:Honors Chappel
DESCRIPTION:
URL:https://www.tcsstatesboro.org/event/honors-chappel/
LOCATION:GA
CATEGORIES:School Events
END:VEVENT
BEGIN:VEVENT
DTSTART;TZID=America/New_York:20230526T080000
DTEND;TZID=America/New_York:20230526T120000
DTSTAMP:20260420T214605
CREATED:20230417T190242Z
LAST-MODIFIED:20230417T190242Z
UID:7067-1685088000-1685102400@www.tcsstatesboro.org
SUMMARY:Last Day of School and Early Dismissal
DESCRIPTION:
URL:https://www.tcsstatesboro.org/event/last-day-of-school-and-early-dismissal/
LOCATION:Trinity Christian School\, 571 E Main St\, Statesboro\, GA\, United States
CATEGORIES:Early Dismissals
ORGANIZER;CN="Trinity Christian School":MAILTO:office@tcsstatesboro.org
END:VEVENT
BEGIN:VEVENT
DTSTART;TZID=America/New_York:20230525T090000
DTEND;TZID=America/New_York:20230525T093000
DTSTAMP:20260420T214605
CREATED:20230417T190209Z
LAST-MODIFIED:20230417T190210Z
UID:7065-1685005200-1685007000@www.tcsstatesboro.org
SUMMARY:Kindergarten Graduation
DESCRIPTION:
URL:https://www.tcsstatesboro.org/event/kindergarten-graduation/
LOCATION:Trinity Christian School\, 571 E Main St\, Statesboro\, GA\, United States
CATEGORIES:School Events
ORGANIZER;CN="Trinity Christian School":MAILTO:office@tcsstatesboro.org
END:VEVENT
BEGIN:VEVENT
DTSTART;VALUE=DATE:20230524
DTEND;VALUE=DATE:20230525
DTSTAMP:20260420T214605
CREATED:20230505T140028Z
LAST-MODIFIED:20230524T234552Z
UID:7446-1684886400-1684972799@www.tcsstatesboro.org
SUMMARY:Field Day  1/2 Day School
DESCRIPTION:
URL:https://www.tcsstatesboro.org/event/field-day-1-2-day-school/
LOCATION:GA
CATEGORIES:Early Dismissals,School Events
END:VEVENT
BEGIN:VEVENT
DTSTART;TZID=America/New_York:20230519T120000
DTEND;TZID=America/New_York:20230519T120000
DTSTAMP:20260420T214605
CREATED:20230417T190136Z
LAST-MODIFIED:20230417T190136Z
UID:7063-1684497600-1684497600@www.tcsstatesboro.org
SUMMARY:Early Dismissal
DESCRIPTION:
URL:https://www.tcsstatesboro.org/event/early-dismissal-5/
LOCATION:Trinity Christian School\, 571 E Main St\, Statesboro\, GA\, United States
CATEGORIES:Early Dismissals
ORGANIZER;CN="Trinity Christian School":MAILTO:office@tcsstatesboro.org
END:VEVENT
BEGIN:VEVENT
DTSTART;VALUE=DATE:20230519
DTEND;VALUE=DATE:20230520
DTSTAMP:20260420T214605
CREATED:20230505T140028Z
LAST-MODIFIED:20230519T155510Z
UID:7444-1684454400-1684540799@www.tcsstatesboro.org
SUMMARY:Mrs Hellen Ballet Recital @ Chapel
DESCRIPTION:
URL:https://www.tcsstatesboro.org/event/mrs-hellen-ballet-recital-chapel/
LOCATION:GA
END:VEVENT
BEGIN:VEVENT
DTSTART;TZID=America/New_York:20230515T183000
DTEND;TZID=America/New_York:20230515T193000
DTSTAMP:20260420T214605
CREATED:20230417T190107Z
LAST-MODIFIED:20230417T190107Z
UID:7061-1684175400-1684179000@www.tcsstatesboro.org
SUMMARY:PTF Meeting
DESCRIPTION:
URL:https://www.tcsstatesboro.org/event/ptf-meeting/
LOCATION:Trinity Christian School\, 571 E Main St\, Statesboro\, GA\, United States
CATEGORIES:Parent Teacher Fellowship Meetings
ORGANIZER;CN="Trinity Christian School":MAILTO:office@tcsstatesboro.org
END:VEVENT
BEGIN:VEVENT
DTSTART;TZID=America/New_York:20230512T180000
DTEND;TZID=America/New_York:20230512T230000
DTSTAMP:20260420T214605
CREATED:20230417T190031Z
LAST-MODIFIED:20230417T190031Z
UID:7059-1683914400-1683932400@www.tcsstatesboro.org
SUMMARY:Junior/Senior Prom
DESCRIPTION:
URL:https://www.tcsstatesboro.org/event/junior-senior-prom/
LOCATION:GA
CATEGORIES:School Events
END:VEVENT
BEGIN:VEVENT
DTSTART;VALUE=DATE:20230511
DTEND;VALUE=DATE:20230512
DTSTAMP:20260420T214605
CREATED:20230417T185954Z
LAST-MODIFIED:20230417T185954Z
UID:7057-1683763200-1683849599@www.tcsstatesboro.org
SUMMARY:5th Grade Charleston Field Trip
DESCRIPTION:
URL:https://www.tcsstatesboro.org/event/5th-grade-charleston-field-trip/
LOCATION:GA
CATEGORIES:Field Trips
END:VEVENT
BEGIN:VEVENT
DTSTART;VALUE=DATE:20230510
DTEND;VALUE=DATE:20230511
DTSTAMP:20260420T214605
CREATED:20230417T185932Z
LAST-MODIFIED:20230417T185932Z
UID:7055-1683676800-1683763199@www.tcsstatesboro.org
SUMMARY:4-H Meetings for 5th and 6th Grades
DESCRIPTION:
URL:https://www.tcsstatesboro.org/event/4-h-meetings-for-5th-and-6th-grades/
LOCATION:Trinity Christian School\, 571 E Main St\, Statesboro\, GA\, United States
CATEGORIES:School Events
ORGANIZER;CN="Trinity Christian School":MAILTO:office@tcsstatesboro.org
END:VEVENT
BEGIN:VEVENT
DTSTART;TZID=America/New_York:20230509T180000
DTEND;TZID=America/New_York:20230509T200000
DTSTAMP:20260420T214605
CREATED:20230417T185857Z
LAST-MODIFIED:20230417T185857Z
UID:7053-1683655200-1683662400@www.tcsstatesboro.org
SUMMARY:2022-2023 TCS Sports Banquet
DESCRIPTION:
URL:https://www.tcsstatesboro.org/event/2022-2023-tcs-sports-banquet/
LOCATION:Trinity Christian School\, 571 E Main St\, Statesboro\, GA\, United States
CATEGORIES:Sports Events
ORGANIZER;CN="Trinity Christian School":MAILTO:office@tcsstatesboro.org
END:VEVENT
BEGIN:VEVENT
DTSTART;VALUE=DATE:20230505
DTEND;VALUE=DATE:20230507
DTSTAMP:20260420T214605
CREATED:20230417T191733Z
LAST-MODIFIED:20230417T191733Z
UID:7112-1683244800-1683417599@www.tcsstatesboro.org
SUMMARY:GAPPS Boys & Girls Soccer State Finals
DESCRIPTION:
URL:https://www.tcsstatesboro.org/event/gapps-boys-girls-soccer-state-finals/
LOCATION:GA
CATEGORIES:Soccer,Sports Events
END:VEVENT
BEGIN:VEVENT
DTSTART;VALUE=DATE:20230502
DTEND;VALUE=DATE:20230503
DTSTAMP:20260420T214605
CREATED:20230417T191703Z
LAST-MODIFIED:20230417T191703Z
UID:7110-1682985600-1683071999@www.tcsstatesboro.org
SUMMARY:GAPPS Boys & Girls Soccer State Semi-Finals
DESCRIPTION:
URL:https://www.tcsstatesboro.org/event/gapps-boys-girls-soccer-state-semi-finals/
LOCATION:GA
CATEGORIES:Soccer,Sports Events
END:VEVENT
BEGIN:VEVENT
DTSTART;VALUE=DATE:20230501
DTEND;VALUE=DATE:20230502
DTSTAMP:20260420T214605
CREATED:20230417T191638Z
LAST-MODIFIED:20230417T191638Z
UID:7107-1682899200-1682985599@www.tcsstatesboro.org
SUMMARY:GAPPS MH & HS State Tennis Tournament
DESCRIPTION:
URL:https://www.tcsstatesboro.org/event/gapps-mh-hs-state-tennis-tournament/
LOCATION:Rome Tennis Center at Berry College\, 100 Match Point Way NE\, Rome\, GA\, 30165\, United States
CATEGORIES:Sports Events,Tennis
ORGANIZER;CN="Trinity Christian School":MAILTO:office@tcsstatesboro.org
END:VEVENT
BEGIN:VEVENT
DTSTART;VALUE=DATE:20230429
DTEND;VALUE=DATE:20230430
DTSTAMP:20260420T214605
CREATED:20230417T191529Z
LAST-MODIFIED:20230417T191529Z
UID:7105-1682726400-1682812799@www.tcsstatesboro.org
SUMMARY:GAPPS Boys & Girls Soccer State Quarterfinals
DESCRIPTION:
URL:https://www.tcsstatesboro.org/event/gapps-boys-girls-soccer-state-quarterfinals/
LOCATION:GA
CATEGORIES:Soccer,Sports Events
END:VEVENT
BEGIN:VEVENT
DTSTART;TZID=America/New_York:20230427T160000
DTEND;TZID=America/New_York:20230427T200000
DTSTAMP:20260420T214605
CREATED:20230417T191454Z
LAST-MODIFIED:20230417T191454Z
UID:7102-1682611200-1682625600@www.tcsstatesboro.org
SUMMARY:AWAY Soccer at First Presbyterian
DESCRIPTION:
URL:https://www.tcsstatesboro.org/event/away-soccer-at-first-presbyterian/
LOCATION:First Presbyterian Christian Academy\, 308 E. Court Street\, Hinesville\, GA\, 31313\, United States
CATEGORIES:Soccer,Sports Events
ORGANIZER;CN="Trinity Christian School":MAILTO:office@tcsstatesboro.org
END:VEVENT
BEGIN:VEVENT
DTSTART;TZID=America/New_York:20230424T170000
DTEND;TZID=America/New_York:20230424T200000
DTSTAMP:20260420T214605
CREATED:20230417T191350Z
LAST-MODIFIED:20230417T191350Z
UID:7099-1682355600-1682366400@www.tcsstatesboro.org
SUMMARY:AWAY Soccer at Coastal Hurricanes
DESCRIPTION:Varsity Girls at 5pm\, Varsity Boys at 7pm
URL:https://www.tcsstatesboro.org/event/away-soccer-at-coastal-hurricanes/
LOCATION:Floyd Morris Field at Daffin Park\, 1500 E. Victory Drive\, Savannah\, GA\, 31404\, United States
CATEGORIES:Soccer,Sports Events
ORGANIZER;CN="Trinity Christian School":MAILTO:office@tcsstatesboro.org
END:VEVENT
BEGIN:VEVENT
DTSTART;VALUE=DATE:20230424
DTEND;VALUE=DATE:20230429
DTSTAMP:20260420T214605
CREATED:20230417T185730Z
LAST-MODIFIED:20230417T185730Z
UID:7049-1682294400-1682726399@www.tcsstatesboro.org
SUMMARY:ITBS Testing K-5-8th
DESCRIPTION:
URL:https://www.tcsstatesboro.org/event/itbs-testing-k-5-8th/
LOCATION:Trinity Christian School\, 571 E Main St\, Statesboro\, GA\, United States
CATEGORIES:Exams
ORGANIZER;CN="Trinity Christian School":MAILTO:office@tcsstatesboro.org
END:VEVENT
END:VCALENDAR